BEGIN:VCALENDAR
VERSION:2.0
PRODID:-//wp-events-plugin.com//7.2.3.1//EN
TZID:Europe/Amsterdam
X-WR-TIMEZONE:Europe/Amsterdam
BEGIN:VEVENT
UID:7@drachda.nl
DTSTART;TZID=Europe/Amsterdam:20240323T193000
DTEND;TZID=Europe/Amsterdam:20240323T223000
DTSTAMP:20240728T201141Z
URL:https://drachda.nl/welkom/Agenda/hanzebal-debka-zwolle/
SUMMARY:Hanzebal Debka Zwolle
DESCRIPTION:Balleiding: Pauline Poels\n\nOrkest: Turquasi\n\nLeden 15 euro\
 , Niet-leden vooraf 17.50\, aan de zaal 20 euro\n\nBetalen voor 21 maart N
 L61INGB0003527685\n\nInformatie: debkazwollemail@gmail.com
LOCATION:Gymzaal Celeanum\, Zoom 37\, Zwolle\, 8032 EM\, Nederland
X-APPLE-STRUCTURED-LOCATION;VALUE=URI;X-ADDRESS=Zoom 37\, Zwolle\, 8032 EM\
 , Nederland;X-APPLE-RADIUS=100;X-TITLE=Gymzaal Celeanum:geo:0,0
END:VEVENT
BEGIN:VTIMEZONE
TZID:Europe/Amsterdam
X-LIC-LOCATION:Europe/Amsterdam
BEGIN:STANDARD
DTSTART:20231029T020000
TZOFFSETFROM:+0200
TZOFFSETTO:+0100
TZNAME:CET
END:STANDARD
END:VTIMEZONE
END:VCALENDAR